BEGIN:VCALENDAR
VERSION:2.0
PRODID:-//Mabel Esther Trading Co - ECPv6.15.20//NONSGML v1.0//EN
CALSCALE:GREGORIAN
METHOD:PUBLISH
X-WR-CALNAME:Mabel Esther Trading Co
X-ORIGINAL-URL:https://mabelesthertradingco.com
X-WR-CALDESC:Events for Mabel Esther Trading Co
REFRESH-INTERVAL;VALUE=DURATION:PT1H
X-Robots-Tag:noindex
X-PUBLISHED-TTL:PT1H
BEGIN:VTIMEZONE
TZID:America/Los_Angeles
BEGIN:DAYLIGHT
TZOFFSETFROM:-0800
TZOFFSETTO:-0700
TZNAME:PDT
DTSTART:20250309T100000
END:DAYLIGHT
BEGIN:STANDARD
TZOFFSETFROM:-0700
TZOFFSETTO:-0800
TZNAME:PST
DTSTART:20251102T090000
END:STANDARD
BEGIN:DAYLIGHT
TZOFFSETFROM:-0800
TZOFFSETTO:-0700
TZNAME:PDT
DTSTART:20260308T100000
END:DAYLIGHT
BEGIN:STANDARD
TZOFFSETFROM:-0700
TZOFFSETTO:-0800
TZNAME:PST
DTSTART:20261101T090000
END:STANDARD
BEGIN:DAYLIGHT
TZOFFSETFROM:-0800
TZOFFSETTO:-0700
TZNAME:PDT
DTSTART:20270314T100000
END:DAYLIGHT
BEGIN:STANDARD
TZOFFSETFROM:-0700
TZOFFSETTO:-0800
TZNAME:PST
DTSTART:20271107T090000
END:STANDARD
END:VTIMEZONE
BEGIN:VEVENT
DTSTART;TZID=America/Los_Angeles:20260201T120000
DTEND;TZID=America/Los_Angeles:20260201T170000
DTSTAMP:20260424T104934
CREATED:20260131T062205Z
LAST-MODIFIED:20260201T152418Z
UID:10000018-1769947200-1769965200@mabelesthertradingco.com
SUMMARY:Sunday at Campus Pointe - Fresno\, CA | Mabel Esther Trading Co
DESCRIPTION:Sunday\, February 1 | 11:00am–5:00pm \nJoin Mabel Esther Trading Co. for a special Sunday appearance at Campus Pointe\, one of our regular locations — and a rare Sunday market for us. We’re looking forward to sharing a curated tasting experience featuring The Shire\, Radiance from our Renewal Collection\, Blessings Beauty Tonic\, and Elegance Tea\, served in a comforting recipe with oat milk and a touch of honey. Stop by to sample teas\, connect with familiar faces\, and enjoy a slow\, thoughtful market day centered around warmth\, story\, and community.
URL:https://mabelesthertradingco.com/event/sunday-at-campus-pointe-fresno-ca-mabel-esther-trading-co/
END:VEVENT
BEGIN:VEVENT
DTSTART;TZID=America/Los_Angeles:20260207T110000
DTEND;TZID=America/Los_Angeles:20260207T160000
DTSTAMP:20260424T104934
CREATED:20260203T211848Z
LAST-MODIFIED:20260203T211848Z
UID:10000020-1770462000-1770480000@mabelesthertradingco.com
SUMMARY:River Park Fresno\, CA | Mabel Esther Trading Co
DESCRIPTION:Visit Mabel Esther Trading Co. at River Park in Fresno on February 7 from 11 – 4pm . Enjoy sunny weather\, tea samples\, handcrafted blends\, and cozy favorites.
URL:https://mabelesthertradingco.com/event/river-park-fresno-ca-mabel-esther-trading-co-2/
END:VEVENT
BEGIN:VEVENT
DTSTART;TZID=America/Los_Angeles:20260214T110000
DTEND;TZID=America/Los_Angeles:20260214T160000
DTSTAMP:20260424T104934
CREATED:20260203T211456Z
LAST-MODIFIED:20260203T211547Z
UID:10000019-1771066800-1771084800@mabelesthertradingco.com
SUMMARY:River Park Fresno\, CA | Mabel Esther Trading Co
DESCRIPTION:Visit Mabel Esther Trading Co. at River Park in Fresno on February 14 from 11 – 4pm . Enjoy sunny weather\, tea samples\, handcrafted blends\, and cozy favorites.
URL:https://mabelesthertradingco.com/event/river-park-fresno-ca-mabel-esther-trading-co/
END:VEVENT
BEGIN:VEVENT
DTSTART;TZID=America/Los_Angeles:20260215T120000
DTEND;TZID=America/Los_Angeles:20260215T170000
DTSTAMP:20260424T104934
CREATED:20260203T212505Z
LAST-MODIFIED:20260203T212505Z
UID:10000023-1771156800-1771174800@mabelesthertradingco.com
SUMMARY:Campus Pointe Fresno\, CA | Mabel Esther Trading Co
DESCRIPTION:Visit Mabel Esther Trading Co. at Campus Pointe (near the Maya Theater) in Fresno on February 15 from 12 -5pm . Enjoy sunny weather\, tea samples\, handcrafted blends\, and cozy favorites.
URL:https://mabelesthertradingco.com/event/campus-pointe-fresno-ca-mabel-esther-trading-co-2/
END:VEVENT
BEGIN:VEVENT
DTSTART;TZID=America/Los_Angeles:20260221T110000
DTEND;TZID=America/Los_Angeles:20260221T160000
DTSTAMP:20260424T104934
CREATED:20260203T212009Z
LAST-MODIFIED:20260203T212009Z
UID:10000021-1771671600-1771689600@mabelesthertradingco.com
SUMMARY:River Park Fresno\, CA | Mabel Esther Trading Co
DESCRIPTION:Visit Mabel Esther Trading Co. at River Park in Fresno on February 21 from 11 – 4pm . Enjoy sunny weather\, tea samples\, handcrafted blends\, and cozy favorites.
URL:https://mabelesthertradingco.com/event/river-park-fresno-ca-mabel-esther-trading-co-3/
END:VEVENT
BEGIN:VEVENT
DTSTART;TZID=America/Los_Angeles:20260228T090000
DTEND;TZID=America/Los_Angeles:20260228T113000
DTSTAMP:20260424T104934
CREATED:20260227T153755Z
LAST-MODIFIED:20260227T153755Z
UID:10000026-1772269200-1772278200@mabelesthertradingco.com
SUMMARY:Clovis Farmers Market | Clovis\, CA
DESCRIPTION:Saturday\, February 28\, 2026 | 9:00–11:30am \nJoin Mabel Esther Trading Co. this Saturday at the Clovis Farmers Market for a beautiful morning in the sunshine. The weather is looking absolutely lovely — perfect for a slow stroll through the market. Our teas are fully stocked\, and we’re excited to debut our new sugar line along with our newly arrived branded journals. We’ll be sampling Autumn Days\, Blessings\, Elegance served with oat milk and rose sugar\, and Forest Chai Mate. Stop by to sip\, browse\, and enjoy a warm\, welcoming start to your weekend near 5th Street and Polasky in Clovis.
URL:https://mabelesthertradingco.com/event/clovis-farmers-market-clovis-ca-2/
END:VEVENT
END:VCALENDAR