BEGIN:VCALENDAR
VERSION:2.0
PRODID:-//Mabel Esther Trading Co - ECPv6.15.20//NONSGML v1.0//EN
CALSCALE:GREGORIAN
METHOD:PUBLISH
X-ORIGINAL-URL:https://mabelesthertradingco.com
X-WR-CALDESC:Events for Mabel Esther Trading Co
REFRESH-INTERVAL;VALUE=DURATION:PT1H
X-Robots-Tag:noindex
X-PUBLISHED-TTL:PT1H
BEGIN:VTIMEZONE
TZID:America/Los_Angeles
BEGIN:DAYLIGHT
TZOFFSETFROM:-0800
TZOFFSETTO:-0700
TZNAME:PDT
DTSTART:20250309T100000
END:DAYLIGHT
BEGIN:STANDARD
TZOFFSETFROM:-0700
TZOFFSETTO:-0800
TZNAME:PST
DTSTART:20251102T090000
END:STANDARD
BEGIN:DAYLIGHT
TZOFFSETFROM:-0800
TZOFFSETTO:-0700
TZNAME:PDT
DTSTART:20260308T100000
END:DAYLIGHT
BEGIN:STANDARD
TZOFFSETFROM:-0700
TZOFFSETTO:-0800
TZNAME:PST
DTSTART:20261101T090000
END:STANDARD
BEGIN:DAYLIGHT
TZOFFSETFROM:-0800
TZOFFSETTO:-0700
TZNAME:PDT
DTSTART:20270314T100000
END:DAYLIGHT
BEGIN:STANDARD
TZOFFSETFROM:-0700
TZOFFSETTO:-0800
TZNAME:PST
DTSTART:20271107T090000
END:STANDARD
END:VTIMEZONE
BEGIN:VEVENT
DTSTART;TZID=America/Los_Angeles:20260411T110000
DTEND;TZID=America/Los_Angeles:20260411T160000
DTSTAMP:20260424T105357
CREATED:20260411T050636Z
LAST-MODIFIED:20260411T050636Z
UID:10000032-1775905200-1775923200@mabelesthertradingco.com
SUMMARY:Riverpark Fresno - Flower Fest | Fresno\, CA
DESCRIPTION:Flower Fest at River Park \nCelebrate the beauty of the season at Flower Fest in River Park! Join us from 11 AM–4 PM for a vibrant day filled with blooms\, local makers\, and all things spring. \nStroll through a lively market featuring handcrafted goods\, fresh finds\, and unique small businesses—all set against a cheerful\, flower-filled backdrop. It’s the perfect outing to soak in the sunshine\, gather inspiration\, and enjoy the community. \nWe’ll be there with our handcrafted loose leaf teas\, infused sugars\, and seasonal favorites—perfect for welcoming spring one cozy cup at a time. Come say hello and sip something special with us. \n📍 River Park\, Fresno \n🗓 Saturday\, April 11\, 2026 \n⏰ 11 AM – 4 PM
URL:https://mabelesthertradingco.com/event/riverpark-fresno-flower-fest-fresno-ca/
END:VEVENT
BEGIN:VEVENT
DTSTART;TZID=America/Los_Angeles:20260412T120000
DTEND;TZID=America/Los_Angeles:20260412T170000
DTSTAMP:20260424T105357
CREATED:20260411T050933Z
LAST-MODIFIED:20260411T050933Z
UID:10000033-1775995200-1776013200@mabelesthertradingco.com
SUMMARY:Sunday Social at Campus Pointe | Fresno\, Ca
DESCRIPTION:Sunday Social at Campus Pointe \nJoin us this Sunday for a relaxed afternoon at Campus Pointe! From 12–5 PM\, come stroll\, shop\, and enjoy a beautiful lineup of local vendors and small businesses. \nWe’re keeping our eyes on the weather—but rain or shine\, we’ll be there ☔✨ So grab a friend\, bring a cozy mindset\, and come spend a little time with us. \nWe’ll have our handcrafted loose leaf teas\, infused sugars\, and all the cozy essentials ready for you. Come say hello and sip something special. \n📍 Campus Pointe \n🗓 Sunday\, April 12 \n⏰ 12 PM – 5 PM
URL:https://mabelesthertradingco.com/event/sunday-social-at-campus-pointe-fresno-ca-2/
END:VEVENT
BEGIN:VEVENT
DTSTART;TZID=America/Los_Angeles:20260417T100000
DTEND;TZID=America/Los_Angeles:20260419T180000
DTSTAMP:20260424T105357
CREATED:20260411T051910Z
LAST-MODIFIED:20260411T051910Z
UID:10000034-1776420000-1776621600@mabelesthertradingco.com
SUMMARY:Vintage Days at Fresno State! | Fresno\, CA
DESCRIPTION:Vintage Days at Fresno State \nWe are so excited to be part of one of Fresno’s most loved traditions—Vintage Days at Fresno State! This three-day festival is filled with music\, food\, shopping\, and community\, and we are honored to be included this year. \nFrom April 17–19\, come experience a vibrant marketplace of handpicked vendors\, local makers\, and small businesses\, all set on the Fresno State campus. With thousands of attendees each year\, this is such a special opportunity to gather\, connect\, and celebrate together. \nWe’ll be there all weekend with our handcrafted loose leaf teas\, infused sugars\, and cozy favorites—ready to share a little piece of the loose leaf life with you. \n📍 Fresno State Campus \n🗓 April 17–19\, 2026 \n⏰ Fri & Sat: 10 AM – 6 PM | Sun: 10 AM – 5 PM
URL:https://mabelesthertradingco.com/event/vintage-days-at-fresno-state-fresno-ca/
END:VEVENT
BEGIN:VEVENT
DTSTART;TZID=America/Los_Angeles:20260613T100000
DTEND;TZID=America/Los_Angeles:20260613T150000
DTSTAMP:20260424T105357
CREATED:20260112T093501Z
LAST-MODIFIED:20260112T094253Z
UID:10000012-1781344800-1781362800@mabelesthertradingco.com
SUMMARY:Basilwood Farm Pop Up Summer Gathering | Prather\, CA
DESCRIPTION:Spend a summer day at Basilwood Farm\, a working goat farm in the Prather foothills\, for one of our favorite seasonal pop-ups. This summer gathering invites you to slow down\, sip something refreshing\, and enjoy the beauty of the land. We’ll be bringing our handcrafted loose-leaf teas\, herbal blends\, infused sugars\, and Tea Time & Journaling offerings — perfect for summer reflection and intentional living. This is a relaxed\, family-friendly market experience set in a truly memorable location.
URL:https://mabelesthertradingco.com/event/basilwood-farm-pop-up-summer-gathering-prather-ca/
END:VEVENT
BEGIN:VEVENT
DTSTART;TZID=America/Los_Angeles:20260919T100000
DTEND;TZID=America/Los_Angeles:20260919T150000
DTSTAMP:20260424T105357
CREATED:20260112T093646Z
LAST-MODIFIED:20260112T094139Z
UID:10000013-1789812000-1789830000@mabelesthertradingco.com
SUMMARY:Basilwood Farm Pop Up Autumn Gathering | Prather\, CA
DESCRIPTION:We’re delighted to return to Basilwood Farm for an autumn gathering surrounded by foothill views and early fall air. This seasonal pop-up is all about warmth\, grounding\, and transition. Shop our handcrafted loose-leaf teas\, cozy herbal blends\, infused sugars\, and Tea Time & Journaling collection — thoughtfully suited for the slower rhythms of fall. If you’re looking for a meaningful\, nature-centered market experience\, this one is not to be missed.
URL:https://mabelesthertradingco.com/event/basilwood-farm-pop-up-autumn-gathering-prather-ca/
END:VEVENT
BEGIN:VEVENT
DTSTART;TZID=America/Los_Angeles:20261205T100000
DTEND;TZID=America/Los_Angeles:20261205T150000
DTSTAMP:20260424T105357
CREATED:20260112T094605Z
LAST-MODIFIED:20260112T094751Z
UID:10000014-1796464800-1796482800@mabelesthertradingco.com
SUMMARY:Basilwood Farms Christmas Pop Up | Prather\, CA
DESCRIPTION:Join us for a winter gathering at Basilwood Farm\, a magical goat farm tucked into the Prather foothills\, as we close out the season together. This festive pop-up offers a peaceful alternative to busy holiday shopping\, with handcrafted loose-leaf teas\, warming herbal blends\, infused sugars\, and gift-ready Tea Time & Journaling pieces. Surrounded by nature and the quiet charm of the farm\, this event is a beautiful way to slow down and savor the season.
URL:https://mabelesthertradingco.com/event/basilwood-farms-christmas-pop-up-prather-ca/
END:VEVENT
END:VCALENDAR