BEGIN:VCALENDAR
VERSION:2.0
PRODID:-//Mabel Esther Trading Co - ECPv6.15.20//NONSGML v1.0//EN
CALSCALE:GREGORIAN
METHOD:PUBLISH
X-ORIGINAL-URL:https://mabelesthertradingco.com
X-WR-CALDESC:Events for Mabel Esther Trading Co
REFRESH-INTERVAL;VALUE=DURATION:PT1H
X-Robots-Tag:noindex
X-PUBLISHED-TTL:PT1H
BEGIN:VTIMEZONE
TZID:America/Los_Angeles
BEGIN:DAYLIGHT
TZOFFSETFROM:-0800
TZOFFSETTO:-0700
TZNAME:PDT
DTSTART:20250309T100000
END:DAYLIGHT
BEGIN:STANDARD
TZOFFSETFROM:-0700
TZOFFSETTO:-0800
TZNAME:PST
DTSTART:20251102T090000
END:STANDARD
BEGIN:DAYLIGHT
TZOFFSETFROM:-0800
TZOFFSETTO:-0700
TZNAME:PDT
DTSTART:20260308T100000
END:DAYLIGHT
BEGIN:STANDARD
TZOFFSETFROM:-0700
TZOFFSETTO:-0800
TZNAME:PST
DTSTART:20261101T090000
END:STANDARD
BEGIN:DAYLIGHT
TZOFFSETFROM:-0800
TZOFFSETTO:-0700
TZNAME:PDT
DTSTART:20270314T100000
END:DAYLIGHT
BEGIN:STANDARD
TZOFFSETFROM:-0700
TZOFFSETTO:-0800
TZNAME:PST
DTSTART:20271107T090000
END:STANDARD
END:VTIMEZONE
BEGIN:VEVENT
DTSTART;TZID=America/Los_Angeles:20260329T120000
DTEND;TZID=America/Los_Angeles:20260329T170000
DTSTAMP:20260424T105008
CREATED:20260323T205245Z
LAST-MODIFIED:20260323T205245Z
UID:10000029-1774785600-1774803600@mabelesthertradingco.com
SUMMARY:Sunday Social at Campus Pointe | Fresno\, CA
DESCRIPTION:Sunday Social at Campus Pointe \nJoin us for a relaxed and welcoming Sunday afternoon at Campus Pointe! From 12–5 PM\, come stroll\, sip\, and shop your way through a curated selection of local vendors\, handcrafted goods\, and small businesses. \nWhether you’re meeting up with friends\, enjoying a solo outing\, or looking for something special\, Sunday Social is the perfect place to slow down and savor the moment. Expect a laid-back atmosphere\, good conversation\, and plenty of unique finds. \nWe’ll be there with our handcrafted loose leaf teas\, infused sugars\, and cozy favorites—come say hello and enjoy a little taste of the loose leaf life. \n📍 Campus Pointe \n🗓 Sunday\, March 29 \n⏰ 12 PM – 5 PM
URL:https://mabelesthertradingco.com/event/sunday-social-at-campus-pointe-fresno-ca/
END:VEVENT
END:VCALENDAR