BEGIN:VCALENDAR
VERSION:2.0
PRODID:-//Mabel Esther Trading Co - ECPv6.15.20//NONSGML v1.0//EN
CALSCALE:GREGORIAN
METHOD:PUBLISH
X-ORIGINAL-URL:https://mabelesthertradingco.com
X-WR-CALDESC:Events for Mabel Esther Trading Co
REFRESH-INTERVAL;VALUE=DURATION:PT1H
X-Robots-Tag:noindex
X-PUBLISHED-TTL:PT1H
BEGIN:VTIMEZONE
TZID:America/Los_Angeles
BEGIN:DAYLIGHT
TZOFFSETFROM:-0800
TZOFFSETTO:-0700
TZNAME:PDT
DTSTART:20250309T100000
END:DAYLIGHT
BEGIN:STANDARD
TZOFFSETFROM:-0700
TZOFFSETTO:-0800
TZNAME:PST
DTSTART:20251102T090000
END:STANDARD
BEGIN:DAYLIGHT
TZOFFSETFROM:-0800
TZOFFSETTO:-0700
TZNAME:PDT
DTSTART:20260308T100000
END:DAYLIGHT
BEGIN:STANDARD
TZOFFSETFROM:-0700
TZOFFSETTO:-0800
TZNAME:PST
DTSTART:20261101T090000
END:STANDARD
BEGIN:DAYLIGHT
TZOFFSETFROM:-0800
TZOFFSETTO:-0700
TZNAME:PDT
DTSTART:20270314T100000
END:DAYLIGHT
BEGIN:STANDARD
TZOFFSETFROM:-0700
TZOFFSETTO:-0800
TZNAME:PST
DTSTART:20271107T090000
END:STANDARD
END:VTIMEZONE
BEGIN:VEVENT
DTSTART;TZID=America/Los_Angeles:20260328T090000
DTEND;TZID=America/Los_Angeles:20260328T113000
DTSTAMP:20260424T105006
CREATED:20260323T205611Z
LAST-MODIFIED:20260323T205611Z
UID:10000030-1774688400-1774697400@mabelesthertradingco.com
SUMMARY:Clovis Farmers Market | Clovis\, CA
DESCRIPTION:Clovis Farmers Market \nStart your Saturday morning with a visit to the Clovis Farmers Market! Join us from 9:00–11:30 AM for a beautiful morning filled with fresh finds\, local vendors\, and a welcoming community atmosphere. \nIt’s the perfect way to ease into your weekend—grab a coffee\, take a stroll\, and explore handcrafted goods and seasonal offerings from small businesses. \nWe’ll be there with our loose leaf teas\, infused sugars\, and cozy blends to stock your shelf for the week ahead. Come say hello and enjoy a little moment of calm before the day begins. \n📍 Old Town Clovis (Pollasky Ave & 5th St) \n🗓 Saturday\, March 28 \n⏰ 9:00 AM – 11:30 AM
URL:https://mabelesthertradingco.com/event/clovis-farmers-market-clovis-ca-4/
END:VEVENT
END:VCALENDAR