BEGIN:VCALENDAR
VERSION:2.0
PRODID:-//Mabel Esther Trading Co - ECPv6.15.20//NONSGML v1.0//EN
CALSCALE:GREGORIAN
METHOD:PUBLISH
X-WR-CALNAME:Mabel Esther Trading Co
X-ORIGINAL-URL:https://mabelesthertradingco.com
X-WR-CALDESC:Events for Mabel Esther Trading Co
REFRESH-INTERVAL;VALUE=DURATION:PT1H
X-Robots-Tag:noindex
X-PUBLISHED-TTL:PT1H
BEGIN:VTIMEZONE
TZID:America/Los_Angeles
BEGIN:DAYLIGHT
TZOFFSETFROM:-0800
TZOFFSETTO:-0700
TZNAME:PDT
DTSTART:20250309T100000
END:DAYLIGHT
BEGIN:STANDARD
TZOFFSETFROM:-0700
TZOFFSETTO:-0800
TZNAME:PST
DTSTART:20251102T090000
END:STANDARD
BEGIN:DAYLIGHT
TZOFFSETFROM:-0800
TZOFFSETTO:-0700
TZNAME:PDT
DTSTART:20260308T100000
END:DAYLIGHT
BEGIN:STANDARD
TZOFFSETFROM:-0700
TZOFFSETTO:-0800
TZNAME:PST
DTSTART:20261101T090000
END:STANDARD
BEGIN:DAYLIGHT
TZOFFSETFROM:-0800
TZOFFSETTO:-0700
TZNAME:PDT
DTSTART:20270314T100000
END:DAYLIGHT
BEGIN:STANDARD
TZOFFSETFROM:-0700
TZOFFSETTO:-0800
TZNAME:PST
DTSTART:20271107T090000
END:STANDARD
END:VTIMEZONE
BEGIN:VEVENT
DTSTART;TZID=America/Los_Angeles:20260201T120000
DTEND;TZID=America/Los_Angeles:20260201T170000
DTSTAMP:20260424T122055
CREATED:20260131T062205Z
LAST-MODIFIED:20260201T152418Z
UID:10000018-1769947200-1769965200@mabelesthertradingco.com
SUMMARY:Sunday at Campus Pointe - Fresno\, CA | Mabel Esther Trading Co
DESCRIPTION:Sunday\, February 1 | 11:00am–5:00pm \nJoin Mabel Esther Trading Co. for a special Sunday appearance at Campus Pointe\, one of our regular locations — and a rare Sunday market for us. We’re looking forward to sharing a curated tasting experience featuring The Shire\, Radiance from our Renewal Collection\, Blessings Beauty Tonic\, and Elegance Tea\, served in a comforting recipe with oat milk and a touch of honey. Stop by to sample teas\, connect with familiar faces\, and enjoy a slow\, thoughtful market day centered around warmth\, story\, and community.
URL:https://mabelesthertradingco.com/event/sunday-at-campus-pointe-fresno-ca-mabel-esther-trading-co/
END:VEVENT
END:VCALENDAR