BEGIN:VCALENDAR
VERSION:2.0
PRODID:-//Mabel Esther Trading Co - ECPv6.15.20//NONSGML v1.0//EN
CALSCALE:GREGORIAN
METHOD:PUBLISH
X-ORIGINAL-URL:https://mabelesthertradingco.com
X-WR-CALDESC:Events for Mabel Esther Trading Co
REFRESH-INTERVAL;VALUE=DURATION:PT1H
X-Robots-Tag:noindex
X-PUBLISHED-TTL:PT1H
BEGIN:VTIMEZONE
TZID:America/Denver
BEGIN:DAYLIGHT
TZOFFSETFROM:-0700
TZOFFSETTO:-0600
TZNAME:MDT
DTSTART:20250309T090000
END:DAYLIGHT
BEGIN:STANDARD
TZOFFSETFROM:-0600
TZOFFSETTO:-0700
TZNAME:MST
DTSTART:20251102T080000
END:STANDARD
BEGIN:DAYLIGHT
TZOFFSETFROM:-0700
TZOFFSETTO:-0600
TZNAME:MDT
DTSTART:20260308T090000
END:DAYLIGHT
BEGIN:STANDARD
TZOFFSETFROM:-0600
TZOFFSETTO:-0700
TZNAME:MST
DTSTART:20261101T080000
END:STANDARD
BEGIN:DAYLIGHT
TZOFFSETFROM:-0700
TZOFFSETTO:-0600
TZNAME:MDT
DTSTART:20270314T090000
END:DAYLIGHT
BEGIN:STANDARD
TZOFFSETFROM:-0600
TZOFFSETTO:-0700
TZNAME:MST
DTSTART:20271107T080000
END:STANDARD
END:VTIMEZONE
BEGIN:VEVENT
DTSTART;TZID=America/Denver:20260117T110000
DTEND;TZID=America/Denver:20260117T160000
DTSTAMP:20260424T134719
CREATED:20260112T092003Z
LAST-MODIFIED:20260112T092003Z
UID:10000008-1768647600-1768665600@mabelesthertradingco.com
SUMMARY:Saturday at River Park | Fresno\, CA
DESCRIPTION:Join Mabel Esther Trading Co. for Saturday at River Park\, our regular market at the River Park Shopping Center in Fresno\, this Saturday from 11am–4pm. We’ll be bringing our handcrafted loose-leaf teas\, herbal blends\, infused sugars\, and our Tea Time & Journaling collection\, featuring wrapped floral journals and boxed vintage leather journals with journaling ephemera. Stop by to sample teas\, restock your favorites\, and enjoy a relaxed\, welcoming market experience at one of our usual locations.
URL:https://mabelesthertradingco.com/event/saturday-at-river-park-fresno-ca/
END:VEVENT
END:VCALENDAR