BEGIN:VCALENDAR
VERSION:2.0
PRODID:-//Mabel Esther Trading Co - ECPv6.15.20//NONSGML v1.0//EN
CALSCALE:GREGORIAN
METHOD:PUBLISH
X-WR-CALNAME:Mabel Esther Trading Co
X-ORIGINAL-URL:https://mabelesthertradingco.com
X-WR-CALDESC:Events for Mabel Esther Trading Co
REFRESH-INTERVAL;VALUE=DURATION:PT1H
X-Robots-Tag:noindex
X-PUBLISHED-TTL:PT1H
BEGIN:VTIMEZONE
TZID:America/Los_Angeles
BEGIN:DAYLIGHT
TZOFFSETFROM:-0800
TZOFFSETTO:-0700
TZNAME:PDT
DTSTART:20250309T100000
END:DAYLIGHT
BEGIN:STANDARD
TZOFFSETFROM:-0700
TZOFFSETTO:-0800
TZNAME:PST
DTSTART:20251102T090000
END:STANDARD
BEGIN:DAYLIGHT
TZOFFSETFROM:-0800
TZOFFSETTO:-0700
TZNAME:PDT
DTSTART:20260308T100000
END:DAYLIGHT
BEGIN:STANDARD
TZOFFSETFROM:-0700
TZOFFSETTO:-0800
TZNAME:PST
DTSTART:20261101T090000
END:STANDARD
BEGIN:DAYLIGHT
TZOFFSETFROM:-0800
TZOFFSETTO:-0700
TZNAME:PDT
DTSTART:20270314T100000
END:DAYLIGHT
BEGIN:STANDARD
TZOFFSETFROM:-0700
TZOFFSETTO:-0800
TZNAME:PST
DTSTART:20271107T090000
END:STANDARD
END:VTIMEZONE
BEGIN:VEVENT
DTSTART;TZID=America/Los_Angeles:20260116T170000
DTEND;TZID=America/Los_Angeles:20260116T210000
DTSTAMP:20260424T134618
CREATED:20260112T091625Z
LAST-MODIFIED:20260116T001240Z
UID:10000007-1768582800-1768597200@mabelesthertradingco.com
SUMMARY:Campus Collective | Campus Pointe – Fresno\, CA
DESCRIPTION:Join Mabel Esther Trading Co. this Friday\, December 16 from 5-9pm at Campus Collective\, located at the Campus Pointe Shopping Center near Fresno State. We’ll be featuring our handcrafted loose-leaf teas\, herbal blends\, infused sugars\, and our Tea Time & Journaling collection\, including wrapped floral journals and boxed vintage leather journals with journaling ephemera. Stop by to sample teas\, browse gift-ready favorites\, and enjoy a relaxed afternoon market close to campus.
URL:https://mabelesthertradingco.com/event/campus-collective-campus-pointe-fresno-ca/
END:VEVENT
END:VCALENDAR