BEGIN:VCALENDAR
VERSION:2.0
PRODID:-//Mabel Esther Trading Co - ECPv6.15.20//NONSGML v1.0//EN
CALSCALE:GREGORIAN
METHOD:PUBLISH
X-WR-CALNAME:Mabel Esther Trading Co
X-ORIGINAL-URL:https://mabelesthertradingco.com
X-WR-CALDESC:Events for Mabel Esther Trading Co
REFRESH-INTERVAL;VALUE=DURATION:PT1H
X-Robots-Tag:noindex
X-PUBLISHED-TTL:PT1H
BEGIN:VTIMEZONE
TZID:America/Denver
BEGIN:DAYLIGHT
TZOFFSETFROM:-0700
TZOFFSETTO:-0600
TZNAME:MDT
DTSTART:20240310T090000
END:DAYLIGHT
BEGIN:STANDARD
TZOFFSETFROM:-0600
TZOFFSETTO:-0700
TZNAME:MST
DTSTART:20241103T080000
END:STANDARD
BEGIN:DAYLIGHT
TZOFFSETFROM:-0700
TZOFFSETTO:-0600
TZNAME:MDT
DTSTART:20250309T090000
END:DAYLIGHT
BEGIN:STANDARD
TZOFFSETFROM:-0600
TZOFFSETTO:-0700
TZNAME:MST
DTSTART:20251102T080000
END:STANDARD
BEGIN:DAYLIGHT
TZOFFSETFROM:-0700
TZOFFSETTO:-0600
TZNAME:MDT
DTSTART:20260308T090000
END:DAYLIGHT
BEGIN:STANDARD
TZOFFSETFROM:-0600
TZOFFSETTO:-0700
TZNAME:MST
DTSTART:20261101T080000
END:STANDARD
END:VTIMEZONE
BEGIN:VEVENT
DTSTART;TZID=America/Denver:20251228T110000
DTEND;TZID=America/Denver:20251228T160000
DTSTAMP:20260424T151701
CREATED:20251222T225057Z
LAST-MODIFIED:20251222T225204Z
UID:10000006-1766919600-1766937600@mabelesthertradingco.com
SUMMARY:Campus Pointe Market | Mabel Esther Trading Co.
DESCRIPTION:We’re looking forward to returning to Campus Pointe this Sunday from 11am–4pm. Join Mabel Esther Trading Co. as we bring back a curated selection of our handcrafted loose-leaf teas\, herbal blends\, infused sugars\, and our Tea Time & Journaling collection\, featuring wrapped floral journals and boxed vintage leather journals with journaling ephemera. Stop by to sample teas\, browse gift-ready favorites\, and enjoy a relaxed market experience in a familiar and welcoming setting.
URL:https://mabelesthertradingco.com/event/campus-pointe-market-mabel-esther-trading-co/
LOCATION:Campus Pointe\, Fresno\, CA\, United States
END:VEVENT
END:VCALENDAR