BEGIN:VCALENDAR
VERSION:2.0
PRODID:-//Mabel Esther Trading Co - ECPv6.15.20//NONSGML v1.0//EN
CALSCALE:GREGORIAN
METHOD:PUBLISH
X-WR-CALNAME:Mabel Esther Trading Co
X-ORIGINAL-URL:https://mabelesthertradingco.com
X-WR-CALDESC:Events for Mabel Esther Trading Co
REFRESH-INTERVAL;VALUE=DURATION:PT1H
X-Robots-Tag:noindex
X-PUBLISHED-TTL:PT1H
BEGIN:VTIMEZONE
TZID:America/Los_Angeles
BEGIN:DAYLIGHT
TZOFFSETFROM:-0800
TZOFFSETTO:-0700
TZNAME:PDT
DTSTART:20240310T100000
END:DAYLIGHT
BEGIN:STANDARD
TZOFFSETFROM:-0700
TZOFFSETTO:-0800
TZNAME:PST
DTSTART:20241103T090000
END:STANDARD
BEGIN:DAYLIGHT
TZOFFSETFROM:-0800
TZOFFSETTO:-0700
TZNAME:PDT
DTSTART:20250309T100000
END:DAYLIGHT
BEGIN:STANDARD
TZOFFSETFROM:-0700
TZOFFSETTO:-0800
TZNAME:PST
DTSTART:20251102T090000
END:STANDARD
BEGIN:DAYLIGHT
TZOFFSETFROM:-0800
TZOFFSETTO:-0700
TZNAME:PDT
DTSTART:20260308T100000
END:DAYLIGHT
BEGIN:STANDARD
TZOFFSETFROM:-0700
TZOFFSETTO:-0800
TZNAME:PST
DTSTART:20261101T090000
END:STANDARD
END:VTIMEZONE
BEGIN:VEVENT
DTSTART;TZID=America/Los_Angeles:20251220T090000
DTEND;TZID=America/Los_Angeles:20251220T113000
DTSTAMP:20260424T151653
CREATED:20251218T200048Z
LAST-MODIFIED:20251221T204809Z
UID:10000003-1766221200-1766230200@mabelesthertradingco.com
SUMMARY:Clovis Farmers Market Holiday Pop-Up | Mabel Esther Trading Co.
DESCRIPTION:Visit Mabel Esther Trading Co. at the Clovis Farmers Market this Saturday for our final market before Christmas. Shop handcrafted loose-leaf teas\, herbal blends\, and infused sugars made in small batches right here in Fresno County. Our booth will feature cozy\, gift-ready favorites perfect for holiday gifting\, stocking stuffers\, or creating peaceful tea rituals at home. Stop by to sample teas\, learn about our blends\, and enjoy a warm\, welcoming market experience in the heart of Clovis.
URL:https://mabelesthertradingco.com/event/clovis-farmers-market-holiday-pop-up-mabel-esther-trading-co/
LOCATION:Clovis Farmers Market\, 5th and Polasky\, Clovis\, CA\, United States
END:VEVENT
END:VCALENDAR