BEGIN:VCALENDAR
VERSION:2.0
PRODID:-//Mabel Esther Trading Co - ECPv6.15.20//NONSGML v1.0//EN
CALSCALE:GREGORIAN
METHOD:PUBLISH
X-WR-CALNAME:Mabel Esther Trading Co
X-ORIGINAL-URL:https://mabelesthertradingco.com
X-WR-CALDESC:Events for Mabel Esther Trading Co
REFRESH-INTERVAL;VALUE=DURATION:PT1H
X-Robots-Tag:noindex
X-PUBLISHED-TTL:PT1H
BEGIN:VTIMEZONE
TZID:America/Los_Angeles
BEGIN:DAYLIGHT
TZOFFSETFROM:-0800
TZOFFSETTO:-0700
TZNAME:PDT
DTSTART:20240310T100000
END:DAYLIGHT
BEGIN:STANDARD
TZOFFSETFROM:-0700
TZOFFSETTO:-0800
TZNAME:PST
DTSTART:20241103T090000
END:STANDARD
BEGIN:DAYLIGHT
TZOFFSETFROM:-0800
TZOFFSETTO:-0700
TZNAME:PDT
DTSTART:20250309T100000
END:DAYLIGHT
BEGIN:STANDARD
TZOFFSETFROM:-0700
TZOFFSETTO:-0800
TZNAME:PST
DTSTART:20251102T090000
END:STANDARD
BEGIN:DAYLIGHT
TZOFFSETFROM:-0800
TZOFFSETTO:-0700
TZNAME:PDT
DTSTART:20260308T100000
END:DAYLIGHT
BEGIN:STANDARD
TZOFFSETFROM:-0700
TZOFFSETTO:-0800
TZNAME:PST
DTSTART:20261101T090000
END:STANDARD
END:VTIMEZONE
BEGIN:VEVENT
DTSTART;VALUE=DATE:20251125
DTEND;VALUE=DATE:20251126
DTSTAMP:20260424T163416
CREATED:20251113T151824Z
LAST-MODIFIED:20251113T151824Z
UID:10000001-1764028800-1764115199@mabelesthertradingco.com
SUMMARY:Placeholder Event
DESCRIPTION:
URL:https://mabelesthertradingco.com/event/placeholder-event/
ATTACH;FMTTYPE=image/webp:https://mabelesthertradingco.com/wp-content/uploads/2025/11/67c5496f-2489-4be1-82b9-e8d228451afd.webp
END:VEVENT
END:VCALENDAR